BEGIN:VCALENDAR
VERSION:2.0
PRODID:-//St Marys Recreation - ECPv4.8.1//NONSGML v1.0//EN
CALSCALE:GREGORIAN
METHOD:PUBLISH
X-WR-CALNAME:St Marys Recreation
X-ORIGINAL-URL:https://smrecreation.com
X-WR-CALDESC:Events for St Marys Recreation
BEGIN:VEVENT
DTSTART;TZID=UTC+0:20170616T090000
DTEND;TZID=UTC+0:20170616T110000
DTSTAMP:20260423T205433
CREATED:20170616T145959Z
LAST-MODIFIED:20170616T145959Z
UID:1841-1497600000-1497607200@smrecreation.com
SUMMARY:Children's Miracle Network Health and Safety Fair June 30th\, 2017!!
DESCRIPTION:Memorial Park will be hosting the Children’s Miracle Network Health and Safety Fair on Friday\, June 30th at the Leaning Pines Public Golf Course. The event will be taking place from 9AM until 11AM. We hope you can join us for a wide array of presenters as well as a chance to win some great prizes! More information coming soon for this special event! \n\n
URL:https://smrecreation.com/event/childrens-miracle-network-health-and-safety-fair-june-30th-2017/
END:VEVENT
END:VCALENDAR